BEGIN:VCALENDAR
VERSION:2.0
PRODID:-//RRouen - ECPv5.9.1//NONSGML v1.0//EN
CALSCALE:GREGORIAN
METHOD:PUBLISH
X-WR-CALNAME:RRouen
X-ORIGINAL-URL:https://www.rrouen.org
X-WR-CALDESC:Events for RRouen
BEGIN:VTIMEZONE
TZID:Europe/Paris
BEGIN:DAYLIGHT
TZOFFSETFROM:+0100
TZOFFSETTO:+0200
TZNAME:CEST
DTSTART:20230326T010000
END:DAYLIGHT
BEGIN:STANDARD
TZOFFSETFROM:+0200
TZOFFSETTO:+0100
TZNAME:CET
DTSTART:20231029T010000
END:STANDARD
END:VTIMEZONE
BEGIN:VEVENT
DTSTART;TZID=Europe/Paris:20231109T173000
DTEND;TZID=Europe/Paris:20231109T190000
DTSTAMP:20260423T011245
CREATED:20231015T144016Z
LAST-MODIFIED:20231015T144016Z
UID:5687-1699551000-1699556400@www.rrouen.org
SUMMARY:Présentation de l’édition Labo Voir (ESADHaR\, 2023)
DESCRIPTION:Présentation de l’édition Labo Voir (ESADHaR\, 2023) : un bilan en images des activités du groupe de recherches Labo Voir. Proposition radicale des jeunes graphistes Camille Lesueur et Tom Philippines. En présence des graphistes\, de Gilles Acézat\, professeur de design graphique qui a accompagné le projet\, de Colette Hyvrard\, photographe et enseignante\, à l’origine du Labo Voir avec Tania Vladova.\nParution de l’édition Labo Voir\, 2023.
URL:https://www.rrouen.org/evenement/presentation-de-ledition-labo-voir-esadhar-2023/
LOCATION:Auditorium du musée des Beaux-Arts\, 26 bis\, rue Jean Lecanuet\, Rouen\, 76000\, France
CATEGORIES:Conférence Écoute l’artiste
ATTACH;FMTTYPE=image/jpeg:https://www.rrouen.org/wp-content/uploads/2023/10/labo-voir-1-scaled.jpg
END:VEVENT
BEGIN:VEVENT
DTSTART;TZID=Europe/Paris:20231123T173000
DTEND;TZID=Europe/Paris:20231123T190000
DTSTAMP:20260423T011245
CREATED:20230911T142537Z
LAST-MODIFIED:20240122T163342Z
UID:5624-1700760600-1700766000@www.rrouen.org
SUMMARY:Roy Köhnke.
DESCRIPTION:Le SHED invite Roy Köhnke dans le cadre de son exposition « Love Bugs as a Spit on Dry Land » au SHED – site Gresland / du 17 sept. au 12 nov. 2023\n–\nDans les expositions de Roy Köhnke\, les sculptures\, dessins\, textes ou images s’articulent les unes aux autres\, comme des os bien ajustés\, pour composer l’idée d’un autre monde\, dont les formes étranges appartiennent à des temps troubles. Leur incertitude tient à leur nature paradoxale. Irrémédiablement présentes\, elles sont matériellement et physiquement là\, faites d’argile\, de plâtre\, de métal ou de fibres\, matériaux tout ce qu’il y a de plus real. Mais elles sont aussi des spéculations : elles pourraient représenter les restes biomorphiques de machines agricoles devenues obsolètes\, ou tout aussi bien les prototypes d’organismes technologiques\, qui n’ont pas encore ni déjà eu lieu\, hybrides d’insectes\, dont elles ont les carapaces lisses et symétriques ou l’architecture complexe de circuits dédiés\, et d’engins aux mécanismes bricolés de câble Ethernet et de tubes en latex. (…) La densité de leur matière solide est ouverte : traversée de part en part par des canaux – tuyaux\, ficelles\, tubes\, barres – prêts à se plugger\, à se nouer\, à échanger et interagir.\n–\n+ d’infos : le-shed.com/lovebugs\n\nLégende image :\nRoy Köhnke\, As a Spit on Dry Land (détail)\, 2023\, After Hours Zone (Paris) Crédit photo : Romain Guédé
URL:https://www.rrouen.org/evenement/roy-konhke/
LOCATION:Auditorium du musée des Beaux-Arts\, 26 bis\, rue Jean Lecanuet\, Rouen\, 76000\, France
CATEGORIES:Conférence Écoute l’artiste
ATTACH;FMTTYPE=image/jpeg:https://www.rrouen.org/wp-content/uploads/2023/09/2023_02_18_Afterhours_Perf-as-a-spit-on-dry-land-Romain-GUEDE-8068-HD-scaled.jpg
ORGANIZER;CN="Le%20SHED%2C%20Centre%20d%27art%20contemporain%20de%20Normandie":MAILTO:publics@le-shed.com
END:VEVENT
END:VCALENDAR