BEGIN:VCALENDAR
VERSION:2.0
PRODID:-//RRouen - ECPv5.9.1//NONSGML v1.0//EN
CALSCALE:GREGORIAN
METHOD:PUBLISH
X-WR-CALNAME:RRouen
X-ORIGINAL-URL:https://www.rrouen.org
X-WR-CALDESC:Events for RRouen
BEGIN:VTIMEZONE
TZID:Europe/Paris
BEGIN:DAYLIGHT
TZOFFSETFROM:+0100
TZOFFSETTO:+0200
TZNAME:CEST
DTSTART:20240331T010000
END:DAYLIGHT
BEGIN:STANDARD
TZOFFSETFROM:+0200
TZOFFSETTO:+0100
TZNAME:CET
DTSTART:20241027T010000
END:STANDARD
END:VTIMEZONE
BEGIN:VEVENT
DTSTART;TZID=Europe/Paris:20240201T173000
DTEND;TZID=Europe/Paris:20240201T190000
DTSTAMP:20260422T194844
CREATED:20231015T154526Z
LAST-MODIFIED:20240408T155122Z
UID:5698-1706808600-1706814000@www.rrouen.org
SUMMARY:Valérie Belin
DESCRIPTION:Invitée par le Centre photographique Rouen Normandie\nExposition La Rose est sans pourquoi\nCentre photographique Rouen Normandie\n20.01 > 11.05.2024 \nÀ l’occasion de l’exposition La Rose est sans pourquoi\, le Centre photographique invite Valérie Belin. Le medium photographique est à la fois le sujet de l’œuvre de Valérie Bélin et son moyen de réflexion et de création. La lumière\, la matière et le « corps » des choses et des êtres en général\, ainsi que et leurs transformations et représentations\, constituent le terrain de ses expérimentations et l’univers de son propos artistique. Le travail se manifeste sous la forme de séries photographiques\, dont celle de Bouquets (2008) qui seront présents à l’exposition du Centre photographique. \nValérie Belin (1964) est diplômée de l’École des Beaux-arts de Versailles et de l’École nationale supérieure d’art de Bourges. Son travail est exposé dans le monde entier et figure dans de très nombreuses collections publiques et privées. Elle est lauréate du prix Pictet en 2015 et expose la même année au MNAM – Centre Georges Pompidou. \n \n  \n\n–\n+ d’infos : centrephotographique.com\n\nGratuit. Nombre de places limité\, réservation obligatoire\n\nLégende image :\nValérie Belin\, « Sans titre »\, série Bouquets\, 2008. Impression jet d’encres UV sur papier de coton\, 155×122 cm (sans cadre)\, 187×154 cm (avec cadre). Courtesy Valérie Belin et galerie Nathalie Obadia\, Paris/ Bruxelles.\nFrédéric Stucin\, Courtesy de l’artiste et Galerie Nathalie Obadia\, Paris/Bruxelles
URL:https://www.rrouen.org/evenement/valerie-belin/
LOCATION:Centre photographique Rouen Normandie\, 15 Rue de la Chaîne\, Rouen\, 76100\, France
CATEGORIES:Conférence Écoute l’artiste
ATTACH;FMTTYPE=image/jpeg:https://www.rrouen.org/wp-content/uploads/2023/10/ValeIrie-Belin-Sans-titre-seIrie-Bouquets-2008.jpg
ORGANIZER;CN="Centre%20photographique%20Rouen%20Normandie":MAILTO:info@centrephotographique.com
END:VEVENT
BEGIN:VEVENT
DTSTART;TZID=Europe/Paris:20240208T173000
DTEND;TZID=Europe/Paris:20240208T190000
DTSTAMP:20260422T194844
CREATED:20231015T155016Z
LAST-MODIFIED:20240203T124705Z
UID:5700-1707413400-1707418800@www.rrouen.org
SUMMARY:Yann OWENS [ANNULEE]
DESCRIPTION:Invité par l’ESADHaR\nFransiscopolis à l’Eurofabrique 2023 \n1er semestre 2024 \nImprimer = compagnonnage\, creux\, déconstruction\, déplacement\, équilibre\, espace (de la convivialité\, du faire\, du possible)\, lien\, lieu\, marge\, trouble\, milieu (favorable)\, périphérie\, plan\, plateforme\, terrain\, machine\, débordement. \nCONFERENCE ANNULEE \n– \nSpécialisé en gravure\, il est diplômé des Arts Décoratifs de Strasbourg en 1997\, puis en 2005 de l’université Marc Bloch en master de sociologie critique et essai.\nCe double cursus lui a permis de développer une pratique artistique ainsi que la pédagogie pour devenir enseignant en sérigraphie à l’école ESADHaR du Havre en 2007. Il transmet notamment une pédagogie de l’expérimentation dans différentes techniques de dessin\, de gravure et sérigraphie. Il a créé en 2012 la maison d’édition FrangisCopolis dédiée à l’édition d’estampes\, de multiples en arts graphiques\, de livres d’artistes et d’essais sur l’art contemporain.\nLe travail de l’artiste imprimeur est principalement concentré sur la sérigraphie ainsi que sur la gravure. Il multiplie les techniques d’usage de la sérigraphie et travaille avec de très grands formats qui peuvent aller jusqu’à plusieurs mètres sur lesquels il imprime de multiples couches afin d’avoir toujours le plus de détails possibles. Chaque sérigraphie est un essai unique\, le plasticien utilise des couleurs différentes à chaque fois et varie le nombre de passage\, allant jusqu’à deux passages par couleur et cinq couleurs différentes par sérigraphies.\n« Ses recherches autour de l’image imprimée l’ont amené à aborder dans son travail plastique les notions d’empreinte ainsi que celles du contact et de l’écart. Ses objets d’études portent la problématique des pratiques mixtes (du numérique à l’analogique et vice versa) ainsi que la question du « résiduel » en imprimerie. » Site de l’ESADhar.\nEn 2017\, Yann Owens expose au FRAC de Normandie\, une installation d’une ramette de papier de 100 feuilles sur laquelle vient se diffuser de l’encre imprimant aussi chaque feuille une à une\, par un procédé de capillarité. Chaque feuille est encrée d’un dessin de moins en moins coloré\, jusqu’à arriver à une trace\, une empreinte\, un résidu d’encre. \n \n\n–\n\nLégende image :\nFireworks (détail)\nAlain Rodriguez – Yann Owens\nFranciscopolis éditions\nPhotographie Rémi Mugnier
URL:https://www.rrouen.org/evenement/yann-owens/
LOCATION:Auditorium du musée des Beaux-Arts\, 26 bis\, rue Jean Lecanuet\, Rouen\, 76000\, France
CATEGORIES:Conférence Écoute l’artiste
ATTACH;FMTTYPE=image/jpeg:https://www.rrouen.org/wp-content/uploads/2023/10/Y-Owens-Fireworks.jpg
END:VEVENT
BEGIN:VEVENT
DTSTART;TZID=Europe/Paris:20240208T173000
DTEND;TZID=Europe/Paris:20240208T190000
DTSTAMP:20260422T194844
CREATED:20240203T125017Z
LAST-MODIFIED:20240203T125401Z
UID:5980-1707413400-1707418800@www.rrouen.org
SUMMARY:Marc Hamandjan
DESCRIPTION:La conférence de Yann Owens le jeudi 8 février à 17h30 à l’Auditorium du Musée des Beaux-Arts de Rouen est annulée et remplacée par une conférence de Marc Hamandjian \n\n\n\nL’ESADhAR invite l’artiste Marc Hamandjian en lien avec sa récente exposition « Quitter la Terre? » à la Maison des arts d’Evreux\, le jeudi 8 février à 17h30 à l’auditorium du Musée des Beaux-Arts de Rouen.\n–\nIntéressé au départ par des constructions sculpturales faisant référence à l’habitat\, Marc Hamandjian passe progressivement de l’installation à une sorte de fiction spatiale fondée sur le postulat d’exploration. La construction de son univers fictif rejette néanmoins une immersion visuelle d’anticipation\, lui préférant une certaine distance génératrice d’humour et d’ironie. « La dislocation conceptuelle »\, chère à Philip K. Dick\, celle qui provoque « un trouble de reconnaissance » chez le récepteur d’une fiction (lecteur ou spectateur)\, s’appuie dans les œuvres de l’artiste sur des stratégies de confusion entre les références ainsi que sur la récupération d’éléments inhabituels et incongrus : une 4L convertie en module d’exploration pour « extraterrestres » et dotée d’un système de communication et de traitement de l’image\, une Golf intégrée dans un assemblage technologique censé la propulser hors du champ gravitationnel ou une Vespa munie de réacteurs susceptible d’aider les individus à s’extraire de l’attraction terrestre au moyen d’une rampe de lancement spécialement conçue à cet effet.
URL:https://www.rrouen.org/evenement/marc-hamandjan/
LOCATION:Auditorium du musée des Beaux-Arts\, 26 bis\, rue Jean Lecanuet\, Rouen\, 76000\, France
CATEGORIES:Conférence Écoute l’artiste
ATTACH;FMTTYPE=image/jpeg:https://www.rrouen.org/wp-content/uploads/2024/02/045cosmotube.jpg
END:VEVENT
END:VCALENDAR