BEGIN:VCALENDAR
VERSION:2.0
PRODID:-//RRouen - ECPv5.9.1//NONSGML v1.0//EN
CALSCALE:GREGORIAN
METHOD:PUBLISH
X-WR-CALNAME:RRouen
X-ORIGINAL-URL:https://www.rrouen.org
X-WR-CALDESC:Events for RRouen
BEGIN:VTIMEZONE
TZID:Europe/Paris
BEGIN:DAYLIGHT
TZOFFSETFROM:+0100
TZOFFSETTO:+0200
TZNAME:CEST
DTSTART:20240331T010000
END:DAYLIGHT
BEGIN:STANDARD
TZOFFSETFROM:+0200
TZOFFSETTO:+0100
TZNAME:CET
DTSTART:20241027T010000
END:STANDARD
END:VTIMEZONE
BEGIN:VEVENT
DTSTART;TZID=Europe/Paris:20240314T173000
DTEND;TZID=Europe/Paris:20240314T190000
DTSTAMP:20260422T194832
CREATED:20231015T155522Z
LAST-MODIFIED:20231121T114308Z
UID:5702-1710437400-1710442800@www.rrouen.org
SUMMARY:Jean-Vincent Simonet
DESCRIPTION:Invité par le Centre photographique Rouen Normandie \nExposition La Rose est sans pourquoi\nCentre photographique Rouen Normandie\,\n26.01 > 11.05.2024 \n  \nJean-Vincent Simonet est diplômé de l’ECAL en 2014. Il partage sa vie entre Zurich et Paris. Avec leurs couleurs hallucinées\, leurs formes liquides et leurs contours mouvants\, les clichés de ce jeune Français adoptent une apparence résolument picturale : les architectures urbaines s’y dissolvent dans les ciels fantasmagoriques éclairés par les lumières de la ville\, les pétales des fleurs figées par l’appareil deviennent des taches liquides dégoulinant les unes sur les autres\, les corps dénudés s’approchent davantage du cyborg ou de la poupée que de l’humain avec leurs reflets et leurs tonalités surnaturels\, tandis que les machines industrielles se voient presque réduites à l’abstraction par leurs composantes brouillées et contrastées.\n–\nJean-Vincent Simonet a exposé dans des institutions et des galeries renommées telles que le Centre de la photographie Genève\, le Fotomuseum Winterthur\, le Cabaret Voltaire Zürich\, la Villa Noailles Hyères\, le FOAM Amsterdam\, la galerie Webber Londres\, la Fondazione Vico Magistretti Milan\, le Musée des Beaux-Arts Le Locle\, etc. Ses œuvres figurent dans diverses collections privées et publiques telles que la Vontobel Art Collection\, le FOAM Amsterdam\, le LUMA ou la Poste Suisse. \n \n\n–\n+ d’infos : centrephotographique.com\n\nLégende :\n\nJean-Vincent Simonet\, Mercuriales\, 2023. \nLéa Besanceney\, Portrait de Jean-Vincent Simonet.
URL:https://www.rrouen.org/evenement/jean-vincent-simonet/
LOCATION:Auditorium du musée des Beaux-Arts\, 26 bis\, rue Jean Lecanuet\, Rouen\, 76000\, France
CATEGORIES:Conférence Écoute l’artiste
ATTACH;FMTTYPE=image/png:https://www.rrouen.org/wp-content/uploads/2023/10/Jean-Vincent-Simonet-Mercuriales-2023.png
ORGANIZER;CN="Centre%20photographique%20Rouen%20Normandie":MAILTO:info@centrephotographique.com
END:VEVENT
BEGIN:VEVENT
DTSTART;TZID=Europe/Paris:20240328T173000
DTEND;TZID=Europe/Paris:20240328T190000
DTSTAMP:20260422T194832
CREATED:20231015T155938Z
LAST-MODIFIED:20240320T163508Z
UID:5705-1711647000-1711652400@www.rrouen.org
SUMMARY:Francis Baudevin
DESCRIPTION:Invité par le FRAC\nExposition personnelle\nFRAC Sotteville-lès-Rouen\,\n13.04 > 22.09.2024\n–\nFrancis Baudevin réalise des peintures à partir de compositions trouvées et agrandies. Principalement issus du champ du « packaging » pharmaceutique\, mais également de couvertures de disques et de logos\, ses motifs sont « abstraits » de leur contexte et transposés dans la technique et la méthode de la peinture acrylique au pinceau sur toile préparée. En basant sa peinture sur le design d’emballage et la conception de logos\, il reprend ou se réapproprie l’histoire entrelacée du graphisme et de l’abstraction géométrique.\n\nFrancis Baudevin est professeur à l’ECAL/Ecole cantonale d’art de Lausanne.\nQuelques expositions personnelles : Frac Franche Comté (2013)\, Galerie Art Concept (2013\, 2009\, 2003)\, Kunstmuseum Thun (2012)\, MAC/VAL (2007)\, Mamco à Genève\, Swiss Institute New York (2003). Il collabore au magazine Vibrations et anime un programme musical sur la radio basic.ch. Il a réalisé une émission de radio dans le cadre de la biennale de performance Performa\, sur WFMU\, à New York (2007). \n\n–\n+ d’infos : fracnormandie.fr\nImage :\nFrancis Baudevin\, 24 dots\, 2024\, photographie encadrée\, 42 x 42 cm. © Francis Baudevin
URL:https://www.rrouen.org/evenement/francis-baudevin/
LOCATION:Auditorium du musée des Beaux-Arts\, 26 bis\, rue Jean Lecanuet\, Rouen\, 76000\, France
CATEGORIES:Conférence Écoute l’artiste
ATTACH;FMTTYPE=image/jpeg:https://www.rrouen.org/wp-content/uploads/2023/10/24-dots-©-Francis-Baudevin-scaled.jpg
ORGANIZER;CN="FRAC%20Normandie%20Rouen":MAILTO:a.derout@fracnormandie.fr
END:VEVENT
END:VCALENDAR