BEGIN:VCALENDAR
VERSION:2.0
PRODID:-//RRouen - ECPv5.9.1//NONSGML v1.0//EN
CALSCALE:GREGORIAN
METHOD:PUBLISH
X-WR-CALNAME:RRouen
X-ORIGINAL-URL:https://www.rrouen.org
X-WR-CALDESC:Events for RRouen
BEGIN:VTIMEZONE
TZID:Europe/Paris
BEGIN:DAYLIGHT
TZOFFSETFROM:+0100
TZOFFSETTO:+0200
TZNAME:CEST
DTSTART:20230326T010000
END:DAYLIGHT
BEGIN:STANDARD
TZOFFSETFROM:+0200
TZOFFSETTO:+0100
TZNAME:CET
DTSTART:20231029T010000
END:STANDARD
END:VTIMEZONE
BEGIN:VEVENT
DTSTART;TZID=Europe/Paris:20231005T173000
DTEND;TZID=Europe/Paris:20231005T190000
DTSTAMP:20260423T052237
CREATED:20230911T144250Z
LAST-MODIFIED:20231130T120259Z
UID:5631-1696527000-1696532400@www.rrouen.org
SUMMARY:Élodie Boyer
DESCRIPTION:L’extase est dans le gouffre \nÉlodie Boyer a créé les éditions Non Standard (editions-non-standard.com)\, en 2011\, afin de réaliser des projets sans qu’ils soient jamais soumis à une quelconque autorité. Sa maison\, au Havre\, est une aire de jeux\, un terrain vague\, une recherche sans filet\, une consolation. À ce jour\, les éditions Non Standard ont publié dix-neuf ouvrages et reçu de nombreux prix. La sensualité des livres y est une obsession secrète\, destinée à rendre la lecture irrésistible. Ainsi\, le design graphique y devient une passion prédominante. Il se pourrait même que les éditions Non Standard existent avant tout pour explorer son pouvoir\, son utilité\, sa richesse\, sa présence\, son absence\, son essence.\n \n  \nCrédit photo : Non standard © Photo Colombe Clier
URL:https://www.rrouen.org/evenement/elodie-boyer/
LOCATION:Auditorium du musée des Beaux-Arts\, 26 bis\, rue Jean Lecanuet\, Rouen\, 76000\, France
CATEGORIES:Conférence Écoute l’artiste
ATTACH;FMTTYPE=image/jpeg:https://www.rrouen.org/wp-content/uploads/2023/09/non_standard2483.jpg
END:VEVENT
END:VCALENDAR