BEGIN:VCALENDAR
VERSION:2.0
PRODID:-//RRouen - ECPv5.9.1//NONSGML v1.0//EN
CALSCALE:GREGORIAN
METHOD:PUBLISH
X-WR-CALNAME:RRouen
X-ORIGINAL-URL:https://www.rrouen.org
X-WR-CALDESC:Events for RRouen
BEGIN:VTIMEZONE
TZID:Europe/Paris
BEGIN:DAYLIGHT
TZOFFSETFROM:+0100
TZOFFSETTO:+0200
TZNAME:CEST
DTSTART:20230326T010000
END:DAYLIGHT
BEGIN:STANDARD
TZOFFSETFROM:+0200
TZOFFSETTO:+0100
TZNAME:CET
DTSTART:20231029T010000
END:STANDARD
END:VTIMEZONE
BEGIN:VEVENT
DTSTART;TZID=Europe/Paris:20231026T173000
DTEND;TZID=Europe/Paris:20231026T190000
DTSTAMP:20260423T052105
CREATED:20230912T163619Z
LAST-MODIFIED:20240313T172608Z
UID:5638-1698341400-1698346800@www.rrouen.org
SUMMARY:Bernard Devauchelle
DESCRIPTION:Conférence de Bernard Devauchelle\, suite au workshop « Faire Faces : aux croisements de  la chirurgie esthétique et de l’art contemporain ». \nBernard Devauchelle est un médecin\, membre associé de l’Académie nationale de chirurgie. Longtemps chef du service de chirurgie maxillofaciale du CHU d’Amiens\, en 2022 il a initié avec son équipe\, à la suite de la première greffe du visage\, l’Institut Faire Faces. L’Institut\, consacré principalement à la formation et à la recherche\, travaille en collaboration avec SimUSanté©\, le pôle d’excellence dans le domaine de la pédagogie active et de la simulation en santé basé à Amiens.
URL:https://www.rrouen.org/evenement/bernard-devauchelle/
LOCATION:Auditorium du musée des Beaux-Arts\, 26 bis\, rue Jean Lecanuet\, Rouen\, 76000\, France
CATEGORIES:Conférence Écoute l’artiste
ATTACH;FMTTYPE=image/jpeg:https://www.rrouen.org/wp-content/uploads/2023/09/Institut-Faire-Face.jpg
END:VEVENT
END:VCALENDAR