BEGIN:VCALENDAR
VERSION:2.0
PRODID:-//RRouen - ECPv5.9.1//NONSGML v1.0//EN
CALSCALE:GREGORIAN
METHOD:PUBLISH
X-WR-CALNAME:RRouen
X-ORIGINAL-URL:https://www.rrouen.org
X-WR-CALDESC:évènements pour RRouen
BEGIN:VTIMEZONE
TZID:Europe/Paris
BEGIN:DAYLIGHT
TZOFFSETFROM:+0100
TZOFFSETTO:+0200
TZNAME:CEST
DTSTART:20240331T010000
END:DAYLIGHT
BEGIN:STANDARD
TZOFFSETFROM:+0200
TZOFFSETTO:+0100
TZNAME:CET
DTSTART:20241027T010000
END:STANDARD
END:VTIMEZONE
BEGIN:VEVENT
DTSTART;TZID=Europe/Paris:20241211T143000
DTEND;TZID=Europe/Paris:20241211T160000
DTSTAMP:20260423T094248
CREATED:20241202T074402Z
LAST-MODIFIED:20241202T074512Z
UID:6521-1733927400-1733932800@www.rrouen.org
SUMMARY:« TRIANGLES\, RECTANGLES\, CARREAUX\, RAYURES »
DESCRIPTION:Atelier famille « TRIANGLES\, RECTANGLES\, CARREAUX\, RAYURES » \nMercredi 11 décembre 2024\n14h30 – 16h\n5 / 10 ans \nAprès une visite de l’exposition de Francis Baudevin\, les enfants accompagnés de leur parent seront invités à créer des oeuvres sur le principe du jeu du Tangram. Le goûter est offert. \nAtelier sur réservation et gratuit : a.derout@fracnormandie.fr \nInfos pratiques : \n\nFrac Normandie à Sotteville-lès-Rouen\n3 pl. des Martyrs-de-la-Résistance\, 76300 Sotteville-lès-Rouen\nEn face du Jardin des Plantes de Rouen\nLigne F1 arrêt Dufay ou Jardin des Plantes en direction de « Stade Diochon – Petit-Quevilly »\n\nContact : \n02 35 72 27 51\nwww.fracnormandie.fr
URL:https://www.rrouen.org/evenement/triangles-rectangles-carreaux-rayures/
LOCATION:FRAC Normandie Rouen\, 3\, place des Martyrs-de-la-Résistance\, Sotteville-lès-Rouen\, 76300\, France
CATEGORIES:Ateliers jeune public
ATTACH;FMTTYPE=image/jpeg:https://www.rrouen.org/wp-content/uploads/2024/12/Unknown-4-recadre.jpg
ORGANIZER;CN="FRAC%20Normandie%20Rouen":MAILTO:a.derout@fracnormandie.fr
END:VEVENT
END:VCALENDAR