BEGIN:VCALENDAR
VERSION:2.0
PRODID:-//RRouen - ECPv5.9.1//NONSGML v1.0//EN
CALSCALE:GREGORIAN
METHOD:PUBLISH
X-WR-CALNAME:RRouen
X-ORIGINAL-URL:https://www.rrouen.org
X-WR-CALDESC:Events for RRouen
BEGIN:VTIMEZONE
TZID:Europe/Paris
BEGIN:DAYLIGHT
TZOFFSETFROM:+0100
TZOFFSETTO:+0200
TZNAME:CEST
DTSTART:20210328T010000
END:DAYLIGHT
BEGIN:STANDARD
TZOFFSETFROM:+0200
TZOFFSETTO:+0100
TZNAME:CET
DTSTART:20211031T010000
END:STANDARD
BEGIN:DAYLIGHT
TZOFFSETFROM:+0100
TZOFFSETTO:+0200
TZNAME:CEST
DTSTART:20220327T010000
END:DAYLIGHT
BEGIN:STANDARD
TZOFFSETFROM:+0200
TZOFFSETTO:+0100
TZNAME:CET
DTSTART:20221030T010000
END:STANDARD
BEGIN:DAYLIGHT
TZOFFSETFROM:+0100
TZOFFSETTO:+0200
TZNAME:CEST
DTSTART:20230326T010000
END:DAYLIGHT
BEGIN:STANDARD
TZOFFSETFROM:+0200
TZOFFSETTO:+0100
TZNAME:CET
DTSTART:20231029T010000
END:STANDARD
END:VTIMEZONE
BEGIN:VEVENT
DTSTART;TZID=Europe/Paris:20231213T143000
DTEND;TZID=Europe/Paris:20231213T160000
DTSTAMP:20260419T161444
CREATED:20231121T111317Z
LAST-MODIFIED:20231121T111317Z
UID:5804-1702477800-1702483200@www.rrouen.org
SUMMARY:VISITE DANSEE AU FRAC
DESCRIPTION:Visite dansée au Frac Normandie à Sotteville-lès-Rouen \nMercredi 13 décembre à 14h30 (1h30) \n4 – 10 ans \nGratuit  \nSur réservation \nDans le cadre de son exposition dédiée à l’artiste Jessica Stockholder et intitulée « Nomadic Musings » (Rêveries Nomades)\, le Frac Normandie à Sotteville-lès-Rouen\, membre de RRouen\, propose une découverte en mouvement en familles. Cette visite dansée est proposée par la compagnie Connivences. Un goûter sera offert. \nContact pour la réservation : Amandine Derout\, a.derout@fracnormandierouen.fr\, 02 35 72 27 51.  \nPour venir au Frac : F1 arrêt Dufay + 5 minutes à pied en longeant le jardin des plantes. \nwww.fracnormandie.fr
URL:https://www.rrouen.org/evenement/visite-dansee-au-frac/
LOCATION:FRAC Normandie Rouen\, 3\, place des Martyrs-de-la-Résistance\, Sotteville-lès-Rouen\, 76300\, France
CATEGORIES:Ateliers jeune public
ATTACH;FMTTYPE=image/jpeg:https://www.rrouen.org/wp-content/uploads/2023/11/8-scaled.jpg
ORGANIZER;CN="FRAC%20Normandie%20Rouen":MAILTO:a.derout@fracnormandie.fr
END:VEVENT
BEGIN:VEVENT
DTSTART;TZID=Europe/Paris:20231119T163000
DTEND;TZID=Europe/Paris:20231119T173000
DTSTAMP:20260419T161444
CREATED:20231121T114208Z
LAST-MODIFIED:20231121T114208Z
UID:5814-1700411400-1700415000@www.rrouen.org
SUMMARY:JOYEUX A AU FRAC
DESCRIPTION:Joyeux A au Frac Normandie à Sotteville-lès-Rouen \nDimanche 19 novembre à 16h30 (1h) \n3 – 99 ans \nGratuit\, sur réservation \nUn mini-Concert pour un grand anniversaire ! Les enfants du stage Holiday d’octobre\, accompagnés par Patricia Penven de la Roulotte Scarabée\, ont composé une chanson pour fêter les 40 ans du Frac ! Un moment musical et convivial\, pour tou·te·s\, à partager en famille avant de souffler les bougies du gâteau. Cet événement est organisé dans le cadre de WE FRAC\, le week-end national des Frac. \nVenez nombreux·ses ! \nContact : Amandine Derout : a.derout@fracnormandierouen.fr : 02 35 72 27 51 \nPour venir en bus : F1 arrêt Dufay + 5 minutes à pied en longeant le jardin des plantes. \nwww.fracnormandie.fr
URL:https://www.rrouen.org/evenement/joyeux-a-au-frac/
LOCATION:FRAC Normandie Rouen\, 3\, place des Martyrs-de-la-Résistance\, Sotteville-lès-Rouen\, 76300\, France
CATEGORIES:Ateliers jeune public
ATTACH;FMTTYPE=image/jpeg:https://www.rrouen.org/wp-content/uploads/2023/11/IMG_4639-scaled.jpg
ORGANIZER;CN="FRAC%20Normandie%20Rouen":MAILTO:a.derout@fracnormandie.fr
END:VEVENT
BEGIN:VEVENT
DTSTART;TZID=Europe/Paris:20230624T140000
DTEND;TZID=Europe/Paris:20230624T170000
DTSTAMP:20260419T161444
CREATED:20230526T144323Z
LAST-MODIFIED:20230616T142825Z
UID:5069-1687615200-1687626000@www.rrouen.org
SUMMARY:Super nappe / Super cape
DESCRIPTION:Avec une nappe (à pique-nique) fabrique une cape (de super héro·ïne) : avec Rosa\, imagine ses super-pouvoirs\, son nom et son pique-nique préféré. \n  \nAccès libre (jauge limitée)\nArtiste invitée : Rosa Quillien
URL:https://www.rrouen.org/evenement/supernappesupercape/
LOCATION:Jardin des plantes\, dans l’orangerie\, 114B Av. des Martyrs de la Résistance\, Rouen\, 76100\, France
CATEGORIES:Le Super Coin
ATTACH;FMTTYPE=image/jpeg:https://www.rrouen.org/wp-content/uploads/2023/05/RR_SC_Super_Cape_RQuillien.jpg
ORGANIZER;CN="FRAC%20Normandie%20Rouen":MAILTO:a.derout@fracnormandie.fr
END:VEVENT
BEGIN:VEVENT
DTSTART;TZID=Europe/Paris:20230330T103000
DTEND;TZID=Europe/Paris:20230330T120000
DTSTAMP:20260419T161444
CREATED:20221004T091831Z
LAST-MODIFIED:20240122T162608Z
UID:4154-1680172200-1680177600@www.rrouen.org
SUMMARY:NELLY MONNIER
DESCRIPTION:Le Frac Normandie à Sotteville-lès-Rouen invite Nelly Monnier. Déjà présente au sein de sa collection à travers le projet d’Atlas des Régions Naturelles qu’elle mène avec Eric Tabuchi\, le Frac Normandie a récemment enrichi son fonds de quatre peintures de l’artiste. \nCes peintures participent d’une série pour laquelle Nelly Monnier reproduit sur la toile des « abstractions trouvées »\, soit des motifs abstraits présents dans le paysage urbain\, souvent périphérique. Elle titre d’ailleurs ses toiles d’après le nom de la ville (en l’occurrence normande) dans laquelle elle a découvert un motif. Ces motifs\, qui échappent régulièrement à notre regard\, sont par le passage à la peinture sur toile\, et leur décontextualisation\, anoblis. L’ensemble retrace une petite histoire de l’aménagement urbain et des multiples tentatives d’embellissement. \n  \nNelly Monnier est née en 1988\, elle vit et travaille dans l’Ain et en Essonne. Après une enfance rurale et des études de cinéma à Bourg-en-Bresse\, elle obtient un DNSEP à l’ENSBA Lyon en 2012. Elle présente ensuite son travail\, où peinture\, dessin et récit abordent les rapports entre l’architecture\, le décoratif et le paysage au Creux de l’enfer (Thiers)\, au musée Fabre de Montpellier suite à l’obtention du prix Félix Sabatier\, à l’IAC (Lyon/Villeurbanne) en 2013 puis à Singapour en 2015\, au Salon de la Jeune Création en 2017\, ou encore à la galerie 22\,48m2 (Paris)\, au Metaxu (Toulon) et à la Cantine (Belfort) récemment. \n  \nCi-dessus : Portrait de Nelly Monnier \nPhotographie  : Margot Montigny \nhttps://vimeo.com/905249847?share=copy
URL:https://www.rrouen.org/evenement/nelly-monnier/
LOCATION:Auditorium du musée des Beaux-Arts\, 26 bis\, rue Jean Lecanuet\, Rouen\, 76000\, France
CATEGORIES:Conférence Écoute l’artiste
ATTACH;FMTTYPE=image/jpeg:https://www.rrouen.org/wp-content/uploads/2022/10/Nelly-Monnier-Margot-Montigny.jpeg
ORGANIZER;CN="FRAC%20Normandie%20Rouen":MAILTO:a.derout@fracnormandie.fr
END:VEVENT
BEGIN:VEVENT
DTSTART;TZID=Europe/Paris:20230111T143000
DTEND;TZID=Europe/Paris:20230111T160000
DTSTAMP:20260419T161444
CREATED:20221122T163458Z
LAST-MODIFIED:20221122T163458Z
UID:4478-1673447400-1673452800@www.rrouen.org
SUMMARY:Atelier en famille
DESCRIPTION:Mercredi 11 janvier de 14h30 à 16h au Frac Normandie à Sotteville-lès-Rouen \n  \nEn s’inspirant de l’œuvre « Baloney » présentée par le duo d’artistes Gaillard & Claude au Frac Normandie Rouen\, l’artiste Paul Caharel invitera les participant.e.s à explorer la dimension tactile de ces tableaux-sculptures en fabriquant des matériaux insolites. Modelage de slime et peinture gonflante seront donc au programme de cette après-midi au Frac. Goûter offert ! \n  \nTraduit en LSF  \nGratuit et sur réservation. \nParents et enfants de 5 à 99 ans  \n  \nContact : Amandine Derout \na.derout@fracnormandierouen.fr \n02 35 72 27 51 \n 
URL:https://www.rrouen.org/evenement/atelier-en-famille-2/
LOCATION:FRAC Normandie Rouen\, 3\, place des Martyrs-de-la-Résistance\, Sotteville-lès-Rouen\, 76300\, France
CATEGORIES:Ateliers jeune public
ATTACH;FMTTYPE=image/jpeg:https://www.rrouen.org/wp-content/uploads/2022/11/puffy-paint-rotated.jpg
ORGANIZER;CN="FRAC%20Normandie%20Rouen":MAILTO:a.derout@fracnormandie.fr
END:VEVENT
BEGIN:VEVENT
DTSTART;TZID=Europe/Paris:20221217T140000
DTEND;TZID=Europe/Paris:20221217T180000
DTSTAMP:20260419T161444
CREATED:20221115T105521Z
LAST-MODIFIED:20221115T105521Z
UID:4438-1671285600-1671300000@www.rrouen.org
SUMMARY:Humbug !
DESCRIPTION: Humbug ! \n  \nLe samedi 17 décembre de 14h à 18h \nDans le cadre de l’exposition Gaillard & Claude \n\nLe Frac invite l’association d’artistes Médium Argent à proposer des ateliers tout au long de cet après-midi festif. \nKaléidoscopes\, instruments silencieux et objets surprises\, les artistes Paul Caharel et Anne-Sarah Sanchez proposent de se plonger dans l’exposition de Gaillard & Claude avec ses différents ateliers. Parents et enfants sont attendus nombreux pour partager un moment créatif avant les vacances de fin d’année. Goûter offert ! \n\nContact : \nAmandine Derout au Frac Normandie \n02 35 72 27 51 \na.derout@fracnormandierouen.fr
URL:https://www.rrouen.org/evenement/humbug/
LOCATION:FRAC Normandie Rouen\, 3\, place des Martyrs-de-la-Résistance\, Sotteville-lès-Rouen\, 76300\, France
CATEGORIES:Ateliers jeune public
ATTACH;FMTTYPE=image/jpeg:https://www.rrouen.org/wp-content/uploads/2022/11/2-scaled.jpg
ORGANIZER;CN="FRAC%20Normandie%20Rouen":MAILTO:a.derout@fracnormandie.fr
END:VEVENT
BEGIN:VEVENT
DTSTART;TZID=Europe/Paris:20221210T143000
DTEND;TZID=Europe/Paris:20221210T160000
DTSTAMP:20260419T161444
CREATED:20221006T150752Z
LAST-MODIFIED:20221006T152136Z
UID:4178-1670682600-1670688000@www.rrouen.org
SUMMARY:Atelier en famille
DESCRIPTION:Samedi 10 décembre au Frac Normandie \nDe 14h30 à 16h \n6/12 ans \n  \nVisite de l’exposition par le médiateur du Frac suivie d’un atelier proposé par l’artiste Paul Caharel. \nTraduit en LSF  \nGratuit et sur réservation. \n  \nContact : Amandine Derout \na.derout@fracnormandierouen.fr \n02 35 72 27 51 \n 
URL:https://www.rrouen.org/evenement/atelier-en-famille/
LOCATION:FRAC Normandie Rouen\, 3\, place des Martyrs-de-la-Résistance\, Sotteville-lès-Rouen\, 76300\, France
CATEGORIES:Ateliers jeune public
ATTACH;FMTTYPE=image/jpeg:https://www.rrouen.org/wp-content/uploads/2022/10/visuel3-scaled.jpg
ORGANIZER;CN="FRAC%20Normandie%20Rouen":MAILTO:a.derout@fracnormandie.fr
END:VEVENT
BEGIN:VEVENT
DTSTART;TZID=Europe/Paris:20221124T103000
DTEND;TZID=Europe/Paris:20221124T120000
DTSTAMP:20260419T161444
CREATED:20221004T091515Z
LAST-MODIFIED:20231130T120200Z
UID:4151-1669285800-1669291200@www.rrouen.org
SUMMARY:DELPHINE BOESCHLIN
DESCRIPTION:Le Frac Normandie à Sotteville-lès-Rouen convie Delphine BOESCHLIN qui sera artiste invitée sur une de ses expositions hors-les-murs intitulée « Images d’architectures\, architectures imaginées » du 16 novembre au 24 décembre à la médiathèque Anne Frank de Déville-lès-Rouen. \nArtiste et graphiste Delphine Boeschlin vit et travaille au Havre depuis 2009. Dans ses créations graphiques\, Delphine Boeschlin dessine les contours des territoires où elle ne peut pas se rendre\, physiquement. A travers le collage d’images issues de ses collectes quotidiennes\, elle utilise et transforme des lieux inaccessibles ou disparus. \nElle aime jouer avec les contrastes qui se créent entre l’iconographie argentique et numérique. En utilisant des images d’hier avec des techniques d’aujourd’hui – et inversement -\, elle confronte et mélange l’œil et la machine\, pour perdre le public dans les différents niveaux d’interprétation de ses images. Les plans successifs de l’image\, les couches qui se superposent\, lui permettent de mettre en lumière ces liens qui se créent à travers le temps et l’espace. \n  \nCi-dessus : Delphine Boeschlin\, “Sommets” Le Havre\, 2012. Impression numérique\, matériaux de construction et ingrédients. \nPhotographie  : Patrick Galais \n 
URL:https://www.rrouen.org/evenement/delphine-boeschlin/
LOCATION:Auditorium du musée des Beaux-Arts\, 26 bis\, rue Jean Lecanuet\, Rouen\, 76000\, France
CATEGORIES:Conférence Écoute l’artiste
ATTACH;FMTTYPE=image/jpeg:https://www.rrouen.org/wp-content/uploads/2022/10/Delphine_B_patrick_galais_20.jpeg
ORGANIZER;CN="FRAC%20Normandie%20Rouen":MAILTO:a.derout@fracnormandie.fr
END:VEVENT
BEGIN:VEVENT
DTSTART;TZID=Europe/Paris:20221024T143000
DTEND;TZID=Europe/Paris:20221025T160000
DTSTAMP:20260419T161444
CREATED:20221006T145919Z
LAST-MODIFIED:20221006T152230Z
UID:4174-1666621800-1666713600@www.rrouen.org
SUMMARY:Stage Holiday
DESCRIPTION:En amont de la manifestation sottevillaise « Passeurs de lumière »\, le Frac Normandie et la bibliothèque de Sotteville-lès-Rouen invitent l’artiste Marilou Pérez pour animer un stage autour de la pratique du photogramme. En plus\, découverte d’œuvres de la collection du Frac et lectures de contes. Goûter offert. \n  \nGratuit et sur réservation. \nLundi 24/10 et mardi 25/10 \nDe 14h30 à 16h30 \n6/12 ans \n  \nContact : Amandine Derout \na.derout@fracnormandierouen.fr \n02 35 72 27 51 \n  \nPhotographie ci-dessus : © Marilou Pérez
URL:https://www.rrouen.org/evenement/stage-holiday/
LOCATION:FRAC Normandie Rouen\, 3\, place des Martyrs-de-la-Résistance\, Sotteville-lès-Rouen\, 76300\, France
CATEGORIES:Ateliers jeune public
ATTACH;FMTTYPE=image/jpeg:https://www.rrouen.org/wp-content/uploads/2022/10/visuel-2-scaled.jpg
ORGANIZER;CN="FRAC%20Normandie%20Rouen":MAILTO:a.derout@fracnormandie.fr
END:VEVENT
BEGIN:VEVENT
DTSTART;TZID=Europe/Paris:20220917T140000
DTEND;TZID=Europe/Paris:20220917T160000
DTSTAMP:20260419T161444
CREATED:20221006T145258Z
LAST-MODIFIED:20221006T152323Z
UID:4171-1663423200-1663430400@www.rrouen.org
SUMMARY:Reconstruire l'intérieur
DESCRIPTION:Animé par l’artiste Julie Aubourg\, l’atelier propose d’expérimenter le photomontage à partir d’images d’espaces intérieurs collectés dans le quartier du Frac. \n  \nGratuit et sur réservation. \nde 14h à 16h  \nde 6 à 99 ans \n  \nContact : Julie Debeer \nj.debeer@fracnormandierouen.fr \n02 35 72 27 51 \n  \nCi-dessus : © Julie Aubourg
URL:https://www.rrouen.org/evenement/atelier-reconstruire-linterieur/
LOCATION:FRAC Normandie Rouen\, 3\, place des Martyrs-de-la-Résistance\, Sotteville-lès-Rouen\, 76300\, France
CATEGORIES:Ateliers jeune public
ATTACH;FMTTYPE=image/jpeg:https://www.rrouen.org/wp-content/uploads/2022/10/visuel-1-scaled.jpg
ORGANIZER;CN="FRAC%20Normandie%20Rouen":MAILTO:a.derout@fracnormandie.fr
END:VEVENT
BEGIN:VEVENT
DTSTART;TZID=Europe/Paris:20220727T143000
DTEND;TZID=Europe/Paris:20220727T160000
DTSTAMP:20260419T161444
CREATED:20220609T162937Z
LAST-MODIFIED:20220610T152656Z
UID:3104-1658932200-1658937600@www.rrouen.org
SUMMARY:Jeux d'illusion
DESCRIPTION:Une visite de l’exposition suivie d’un atelier de pratique où il sera question de mise en scène et de jeux d’illusion. Goûter offert ! \nAtelier en famille « Jeux d’illusion » au Frac Normandie – site de Sotteville-lès-Rouen. \n5/10 ans \nAtelier gratuit\, sur réservation au 02 35 72 27 51 ou par mail à : a.derout@fracnormandierouen.fr
URL:https://www.rrouen.org/evenement/jeux-dillusion-2/
LOCATION:FRAC Normandie Rouen\, 3\, place des Martyrs-de-la-Résistance\, Sotteville-lès-Rouen\, 76300\, France
CATEGORIES:Ateliers jeune public
ATTACH;FMTTYPE=image/jpeg:https://www.rrouen.org/wp-content/uploads/2022/06/2-scaled.jpg
ORGANIZER;CN="FRAC%20Normandie%20Rouen":MAILTO:a.derout@fracnormandie.fr
END:VEVENT
BEGIN:VEVENT
DTSTART;TZID=Europe/Paris:20220711T143000
DTEND;TZID=Europe/Paris:20220711T163000
DTSTAMP:20260419T161444
CREATED:20220609T163708Z
LAST-MODIFIED:20220610T153510Z
UID:3108-1657549800-1657557000@www.rrouen.org
SUMMARY:Stage Holiday au Frac
DESCRIPTION:Pendant les vacances\, le collectif d’artistes HSH proposera aux enfants d’explorer les notions d’illusions et de perception en utilisant artifices et trucages. Goûter offert ! \nLundi 11 juillet et mardi 12 juillet de 14h30 à 16h30 \n6/12 ans \nAtelier gratuit\, sur réservation au 02 35 72 27 51 ou par mail à : a.derout@fracnormandierouen.fr
URL:https://www.rrouen.org/evenement/stage-holiday-au-frac-2/2022-07-11/
LOCATION:FRAC Normandie Rouen\, 3\, place des Martyrs-de-la-Résistance\, Sotteville-lès-Rouen\, 76300\, France
CATEGORIES:Ateliers jeune public
ATTACH;FMTTYPE=image/jpeg:https://www.rrouen.org/wp-content/uploads/2022/06/3.jpg
ORGANIZER;CN="FRAC%20Normandie%20Rouen":MAILTO:a.derout@fracnormandie.fr
END:VEVENT
BEGIN:VEVENT
DTSTART;TZID=Europe/Paris:20220611T143000
DTEND;TZID=Europe/Paris:20220611T160000
DTSTAMP:20260419T161444
CREATED:20220609T162113Z
LAST-MODIFIED:20220610T152738Z
UID:3098-1654957800-1654963200@www.rrouen.org
SUMMARY:Jeux d'illusion
DESCRIPTION:Une visite de l’exposition suivie d’un atelier de pratique où il sera question de mise en scène et de jeux d’illusion. Goûter offert ! \nAtelier en famille « Jeux d’illusion » au Frac Normandie – site de Sotteville-lès-Rouen. \n5/10 ans \nAtelier gratuit\, sur réservation au 02 35 72 27 51 ou par mail à : a.derout@fracnormandierouen.fr
URL:https://www.rrouen.org/evenement/jeux-dillusion/
LOCATION:FRAC Normandie Rouen\, 3\, place des Martyrs-de-la-Résistance\, Sotteville-lès-Rouen\, 76300\, France
CATEGORIES:Ateliers jeune public
ATTACH;FMTTYPE=image/jpeg:https://www.rrouen.org/wp-content/uploads/2022/06/1.jpg
ORGANIZER;CN="FRAC%20Normandie%20Rouen":MAILTO:a.derout@fracnormandie.fr
END:VEVENT
BEGIN:VEVENT
DTSTART;TZID=Europe/Paris:20220411T143000
DTEND;TZID=Europe/Paris:20220411T163000
DTSTAMP:20260419T161444
CREATED:20220314T131053Z
LAST-MODIFIED:20220315T171311Z
UID:2597-1649687400-1649694600@www.rrouen.org
SUMMARY:Stage HOLIDAY au FRAC
DESCRIPTION:Le Frac Normandie – site de Sotteville-lès-Rouen organise un stage HOLIDAY les lundi 11 et mardi 12 avril prochains de 14h30 à 16h30 ! À cette occasion\, il invite l’artiste Raphaël Lecoq à concevoir un tout nouvel espace dédié au jeune public et aux familles. Pour repenser ce lieu d’atelier\, de découverte et de partage\, l’artiste a besoin des idées les plus originales de vos enfants 😊 ! \nDurant les deux après-midis de stage \, les enfants réfléchiront aux différents aménagements possibles puis réaliseront des dessins et des maquettes pour pouvoir choisir les couleurs et les matériaux les mieux appropriés. \nLe lundi 11 et mardi 12 avril de 14h30 à 16h30  \nAtelier gratuit sur inscription au 02 35 72 27 51 ou par mail à :  a.derout@fracnormandierouen.fr \nATELIER + GOÛTER OFFERT
URL:https://www.rrouen.org/evenement/stage-holiday-au-frac/
LOCATION:FRAC Normandie Rouen\, 3\, place des Martyrs-de-la-Résistance\, Sotteville-lès-Rouen\, 76300\, France
CATEGORIES:Ateliers jeune public
ATTACH;FMTTYPE=image/jpeg:https://www.rrouen.org/wp-content/uploads/2022/03/holiday-schedule-intermed-copie.jpg
ORGANIZER;CN="FRAC%20Normandie%20Rouen":MAILTO:a.derout@fracnormandie.fr
END:VEVENT
BEGIN:VEVENT
DTSTART;TZID=Europe/Paris:20220207T143000
DTEND;TZID=Europe/Paris:20220208T163000
DTSTAMP:20260419T161444
CREATED:20220103T164530Z
LAST-MODIFIED:20220103T165125Z
UID:2410-1644244200-1644337800@www.rrouen.org
SUMMARY:Stage HOLIDAY avec Simon Nicaise
DESCRIPTION:Lundi 7 et mardi 8 février 2022 \nDe 14h30 à 16h30 au Frac – site de Sotteville-lès-Rouen \n  \nPendant les vacances scolaires\, Simon Nicaise propose un atelier aux enfants questionnant les frontières d’une œuvre ou d’un objet. A travers différentes techniques\, de la matière sera ajoutée ou soustraite afin de réduire ou d’augmenter des objets. Baigner\, enduire\, charger\, poncer\, couvrir\, dépecer\, estomper\, amenuiser seront autant d’actions et d’expérimentations afin de créer de nouvelles matrices. \nPour les enfants âgés de 6 à 12 ans. \n  \nPour réserver cliquez ici \nRetour à la liste des ateliers \n  \nCi-dessus : Simon Nicaise\, Bouteilles à révolution (détail)\, 2021 © Adagp\, Paris 2021.
URL:https://www.rrouen.org/evenement/holiday/
LOCATION:FRAC Normandie Rouen\, 3\, place des Martyrs-de-la-Résistance\, Sotteville-lès-Rouen\, 76300\, France
CATEGORIES:Ateliers jeune public
ATTACH;FMTTYPE=image/jpeg:https://www.rrouen.org/wp-content/uploads/2022/01/R29A3767-scaled.jpg
ORGANIZER;CN="FRAC%20Normandie%20Rouen":MAILTO:a.derout@fracnormandie.fr
END:VEVENT
BEGIN:VEVENT
DTSTART;TZID=Europe/Paris:20220129T143000
DTEND;TZID=Europe/Paris:20220129T160000
DTSTAMP:20260419T161444
CREATED:20211021T103402Z
LAST-MODIFIED:20220118T111325Z
UID:2179-1643466600-1643472000@www.rrouen.org
SUMMARY:Atelier en famille au FRAC Normandie
DESCRIPTION:Découverte active de l’exposition « Art Thérapie » de Simon Nicaise via un parcours ponctué d’ateliers de pratique en lien avec les œuvres exposées.\nCe moment convivial entre parents et enfants âgés de 5 à 10 ans se conclut par un goûter. \n  \nAtelier complet \nRetour à la liste des ateliers \n  \nCi-dessus : œuvre de Simon Nicaise\, photo Marc Domage.
URL:https://www.rrouen.org/evenement/atelier-en-famille-au-frac-normandie/
LOCATION:FRAC Normandie Rouen\, 3\, place des Martyrs-de-la-Résistance\, Sotteville-lès-Rouen\, 76300\, France
CATEGORIES:Ateliers jeune public
ATTACH;FMTTYPE=image/jpeg:https://www.rrouen.org/wp-content/uploads/2021/10/D4S8591-scaled.jpg
ORGANIZER;CN="FRAC%20Normandie%20Rouen":MAILTO:a.derout@fracnormandie.fr
END:VEVENT
BEGIN:VEVENT
DTSTART;TZID=Europe/Paris:20211121T143000
DTEND;TZID=Europe/Paris:20211121T160000
DTSTAMP:20260419T161444
CREATED:20211001T085310Z
LAST-MODIFIED:20211021T103551Z
UID:1887-1637505000-1637510400@www.rrouen.org
SUMMARY:Atelier en famille au FRAC Normandie
DESCRIPTION:Découverte active de l’exposition « Art Thérapie » de Simon Nicaise via un parcours ponctué d’ateliers de pratique en lien avec les œuvres exposées.\nCe moment convivial entre parents et enfants âgés de 5 à 10 ans se conclut par un goûter. \n  \nATELIER COMPLET \nRetour à la liste des ateliers \n  \nCi-dessus : Simon Nicaise\, Cannibalisation d’une goutte d’eau\, 2010-2016.
URL:https://www.rrouen.org/evenement/atelier-famille-frac/
LOCATION:FRAC Normandie Rouen\, 3\, place des Martyrs-de-la-Résistance\, Sotteville-lès-Rouen\, 76300\, France
CATEGORIES:Ateliers jeune public
ATTACH;FMTTYPE=image/jpeg:https://www.rrouen.org/wp-content/uploads/2021/10/PRGM-NICAISE-Cannibalisation-dune-goute-deau-final-3.jpg
ORGANIZER;CN="FRAC%20Normandie%20Rouen":MAILTO:a.derout@fracnormandie.fr
END:VEVENT
BEGIN:VEVENT
DTSTART;TZID=Europe/Paris:20210627T140000
DTEND;TZID=Europe/Paris:20210627T160000
DTSTAMP:20260419T161444
CREATED:20210226T141810Z
LAST-MODIFIED:20210601T131820Z
UID:712-1624802400-1624809600@www.rrouen.org
SUMMARY:Atelier "Histoire de..."
DESCRIPTION:« HISTOIRE DE… » \nUn atelier-découverte proposé par le Frac Normandie Rouen autour du livre d’artiste \n  \nObjet à manipuler\, à feuilleter\, à expérimenter… le livre d’artiste engage des réflexions sur le geste\, la fabrication ou les matériaux. Il est une ouverture à la fois sur l’objet-livre et sur les diverses formes de la création contemporaine. \n  \nLe Frac Normandie Rouen propose aux enfants âgés de 6 à 10 ans une découverte active d’un choix de livres d’artistes issus de sa collection qui sera suivie d’une expérimentation plastique. \n  \nCi-dessus : © Thorsten Streichardt
URL:https://www.rrouen.org/evenement/atelier-histoire-de/
LOCATION:chez TIGRE\, 45 rue Molière\, Rouen\, Normandie\, 76000\, France
CATEGORIES:Ateliers jeune public
ATTACH;FMTTYPE=image/png:https://www.rrouen.org/wp-content/uploads/2021/02/atlier-livre-artiste-FRAC-Rouen.png
ORGANIZER;CN="FRAC%20Normandie%20Rouen":MAILTO:a.derout@fracnormandie.fr
END:VEVENT
BEGIN:VEVENT
DTSTART;TZID=Europe/Paris:20210408T103000
DTEND;TZID=Europe/Paris:20210408T120000
DTSTAMP:20260419T161444
CREATED:20210118T142847Z
LAST-MODIFIED:20210413T134004Z
UID:335-1617877800-1617883200@www.rrouen.org
SUMMARY:JULIEN PRÉVIEUX
DESCRIPTION:Dans le cadre de l’exposition consacrée à ses récentes acquisitions (du 13 mars au 15 août 2021)\, le Frac Normandie Rouen a choisi d’inviter Julien Prévieux. \n« Ses œuvres\, parce qu’elles empruntent des formes très variées\, ne peuvent être saisies par l’unique versant esthétique. Elles résultent d’une équation particulière qui allie une recherche rigoureuse et documentée sur les stratégies capitalistes d’aliénation et de formatage des comportements à une posture burlesque\, qui commente ses dysfonctionnements et moque ses saillies absurdes pour\, via le médium le plus approprié (vidéo\, sculpture\, dessin\, performance…)\, ouvrir la voie à de possibles contournements. »\nMathilde Villeneuve\, 2018\, extrait \n  \nCi-dessus : Julien Prévieux\, What Shall We Do Next ? (Ultimate Pinch-to-Zoom)\, 2018. Collection Frac Normandie Rouen \n 
URL:https://www.rrouen.org/evenement/julien-previeux/
LOCATION:ZOOM
CATEGORIES:Conférence Écoute l’artiste
ATTACH;FMTTYPE=image/jpeg:https://www.rrouen.org/wp-content/uploads/2021/01/05_Julien-Previeux-What-shall-we-do-scaled.jpg
ORGANIZER;CN="FRAC%20Normandie%20Rouen":MAILTO:a.derout@fracnormandie.fr
END:VEVENT
END:VCALENDAR