BEGIN:VCALENDAR
VERSION:2.0
PRODID:-//RRouen - ECPv5.9.1//NONSGML v1.0//EN
CALSCALE:GREGORIAN
METHOD:PUBLISH
X-WR-CALNAME:RRouen
X-ORIGINAL-URL:https://www.rrouen.org
X-WR-CALDESC:Events for RRouen
BEGIN:VTIMEZONE
TZID:Europe/Paris
BEGIN:DAYLIGHT
TZOFFSETFROM:+0100
TZOFFSETTO:+0200
TZNAME:CEST
DTSTART:20210328T010000
END:DAYLIGHT
BEGIN:STANDARD
TZOFFSETFROM:+0200
TZOFFSETTO:+0100
TZNAME:CET
DTSTART:20211031T010000
END:STANDARD
BEGIN:DAYLIGHT
TZOFFSETFROM:+0100
TZOFFSETTO:+0200
TZNAME:CEST
DTSTART:20220327T010000
END:DAYLIGHT
BEGIN:STANDARD
TZOFFSETFROM:+0200
TZOFFSETTO:+0100
TZNAME:CET
DTSTART:20221030T010000
END:STANDARD
BEGIN:DAYLIGHT
TZOFFSETFROM:+0100
TZOFFSETTO:+0200
TZNAME:CEST
DTSTART:20230326T010000
END:DAYLIGHT
BEGIN:STANDARD
TZOFFSETFROM:+0200
TZOFFSETTO:+0100
TZNAME:CET
DTSTART:20231029T010000
END:STANDARD
END:VTIMEZONE
BEGIN:VEVENT
DTSTART;TZID=Europe/Paris:20211003T143000
DTEND;TZID=Europe/Paris:20211003T163000
DTSTAMP:20260422T023558
CREATED:20210909T091829Z
LAST-MODIFIED:20210930T131340Z
UID:1541-1633271400-1633278600@www.rrouen.org
SUMMARY:Atelier avec Bevis Martin & Charlie Youle
DESCRIPTION:Bevis Martin et Charlie Youle sont des artistes anglais installés à Nantes.\nLa sculpture et les installations sont leur mode d’expression privilégié. Ils travaillent principalement sur les relations entre les objets et les images\, sur leur réutilisation et leur ineptie. Aujourd’hui\, ils s’intéressent plus particulièrement aux « malentendus qu’implique la transmission de connaissances dans les écoles\, musées et autres lieux ». \nPour leur atelier\, ils proposent de fabriquer des chapeaux de fête en feutre à l’ancienne\, peints et garnis de pompons. \n14h30 Atelier avec Bevis Martin & Charlie Youle – 5/10 ans\n16h30 Goûter\nProjections en continu – Bibliothèque éphémère \nUne invitation collective de RRouen. \nATELIER COMPLET. \n  \nRetour à la liste des ateliers
URL:https://www.rrouen.org/evenement/atelier-avec-bevis-martin-charlie-youle/
LOCATION:Jardin des Plantes\, dans le Pavillon\, 114B Avenue des Martyrs de la Résistance\, Rouen\, 76100\, France
CATEGORIES:Le Super Coin
ATTACH;FMTTYPE=image/jpeg:https://www.rrouen.org/wp-content/uploads/2021/09/charliehat.jpg
ORGANIZER;CN="RRouen%20%28ateliers%29":MAILTO:ateliers@rrouen.org
END:VEVENT
BEGIN:VEVENT
DTSTART;TZID=Europe/Paris:20211009T143000
DTEND;TZID=Europe/Paris:20211009T160000
DTSTAMP:20260422T023558
CREATED:20210909T091119Z
LAST-MODIFIED:20210930T131314Z
UID:1557-1633789800-1633795200@www.rrouen.org
SUMMARY:Atelier avec Hubert Crabières - 6/10 ans
DESCRIPTION:Hubert Crabières\, photographe\, aime collectionner toutes sortes d’objets. Il aime aussi les jeux d’échelle et les jeux d’optique et se plaît à dérouter nos perceptions avec ses mises en scène photographiques. \nTout part d’une cape de magicien réalisée par Méliès pour l’un de ses films. En jouant avec des patchworks d’images de fleurs imprimées et de tissus variés\, l’artiste propose aux enfants d’inventer des costumes qui se pensent autant comme des explorations visuelles de la photographie que des espaces d’exposition à porter sur soi. \n14h30 Atelier avec Hubert Crabières – 6/10 ans\n16h Goûter\nProjections en continu – Bibliothèque éphémère \nInvité par le Centre photographique Rouen Normandie\, membre de RRouen. \nATELIER COMPLET. \n  \nRetour à la liste des ateliers
URL:https://www.rrouen.org/evenement/atelier-avec-hubert-crabieres/
LOCATION:Jardin des Plantes\, dans le Pavillon\, 114B Avenue des Martyrs de la Résistance\, Rouen\, 76100\, France
CATEGORIES:Le Super Coin
ATTACH;FMTTYPE=image/jpeg:https://www.rrouen.org/wp-content/uploads/2021/09/8-scaled.jpg
ORGANIZER;CN="RRouen%20%28ateliers%29":MAILTO:ateliers@rrouen.org
END:VEVENT
BEGIN:VEVENT
DTSTART;TZID=Europe/Paris:20211009T163000
DTEND;TZID=Europe/Paris:20211009T180000
DTSTAMP:20260422T023558
CREATED:20210909T091714Z
LAST-MODIFIED:20211006T143410Z
UID:1561-1633797000-1633802400@www.rrouen.org
SUMMARY:Atelier avec Hubert Crabières - 10/14 ans
DESCRIPTION:Hubert Crabières\, photographe\, aime collectionner toutes sortes d’objets. Il aime aussi les jeux d’échelle et les jeux d’optique et se plaît à dérouter nos perceptions avec ses mises en scène photographiques. \nTout part d’une cape de magicien réalisée par Méliès pour l’un de ses films. En jouant avec des patchworks d’images de fleurs imprimées et de tissus variés\, l’artiste propose aux enfants d’inventer des costumes qui se pensent autant comme des explorations visuelles de la photographie que des espaces d’exposition à porter sur soi. \n16h Goûter \n16h30 Atelier avec Hubert Crabières – 10/14 ans \nProjections en continu – Bibliothèque éphémère \nInvité par le Centre photographique Rouen Normandie\, membre de RRouen. \nATELIER COMPLET. \n  \nRetour à la liste des ateliers
URL:https://www.rrouen.org/evenement/atelier-avec-hubert-crabieres-10-14-ans/
LOCATION:Jardin des Plantes\, dans le Pavillon\, 114B Avenue des Martyrs de la Résistance\, Rouen\, 76100\, France
CATEGORIES:Le Super Coin
ATTACH;FMTTYPE=image/jpeg:https://www.rrouen.org/wp-content/uploads/2021/09/8-scaled.jpg
ORGANIZER;CN="RRouen%20%28ateliers%29":MAILTO:ateliers@rrouen.org
END:VEVENT
BEGIN:VEVENT
DTSTART;TZID=Europe/Paris:20211010T143000
DTEND;TZID=Europe/Paris:20211010T163000
DTSTAMP:20260422T023558
CREATED:20210909T092047Z
LAST-MODIFIED:20210930T211740Z
UID:1564-1633876200-1633883400@www.rrouen.org
SUMMARY:Atelier avec Hubert Crabières - 8/12 ans
DESCRIPTION:Hubert Crabières\, photographe\, aime collectionner toutes sortes d’objets. Il aime aussi les jeux d’échelle et les jeux d’optique et se plaît à dérouter nos perceptions avec ses mises en scène photographiques. \nTout part d’une cape de magicien réalisée par Méliès pour l’un de ses films. En jouant avec des patchworks d’images de fleurs imprimées et de tissus variés\, l’artiste propose aux enfants d’inventer des costumes qui se pensent autant comme des explorations visuelles de la photographie que des espaces d’exposition à porter sur soi. \n14h30 Atelier avec Hubert Crabières – 8/12 ans\n16h30 Goûter\nProjections en continu – Bibliothèque éphémère \nInvité par le Centre photographique Rouen Normandie\, membre de RRouen. \nATELIER COMPLET. \n  \nRetour à la liste des ateliers
URL:https://www.rrouen.org/evenement/atelier-avec-hubert-crabieres-8-12-ans/
LOCATION:Jardin des Plantes\, dans le Pavillon\, 114B Avenue des Martyrs de la Résistance\, Rouen\, 76100\, France
CATEGORIES:Le Super Coin
ATTACH;FMTTYPE=image/jpeg:https://www.rrouen.org/wp-content/uploads/2021/09/8-scaled.jpg
ORGANIZER;CN="RRouen%20%28ateliers%29":MAILTO:ateliers@rrouen.org
END:VEVENT
BEGIN:VEVENT
DTSTART;TZID=Europe/Paris:20211016T143000
DTEND;TZID=Europe/Paris:20211016T160000
DTSTAMP:20260422T023558
CREATED:20210909T092723Z
LAST-MODIFIED:20210930T211944Z
UID:1566-1634394600-1634400000@www.rrouen.org
SUMMARY:Atelier avec Nine Hauchard - à partir de 6 ans
DESCRIPTION:Nine Hauchard glane\, récupère des éléments lors de balades\, de voyages. Elle fait des schémas\, des croquis\, chine des objets\, tissus\, matières. \nEn s’inspirant de formes végétales\, les groupes seront invités à créer un maxi drapeau (150 cm x 230 cm). Les participant.e.s découperont des formes directement dans du thermo-collant spécialement conçu pour le flocage textile\, disposées sur le drapeau cousu au préalable ; la toile sera ensuite enfilée sur un manche en bois et le maxi drapeau sera prêt ! \n14h30 Atelier avec Nine Hauchard\, à partir de 6 ans \n16h Goûter \nProjections en continu – Bibliothèque éphémère \nInvitée par le FRAC Normandie – Rouen\, membre de RRouen. \nATELIER COMPLET. \n  \nRetour à la liste des ateliers
URL:https://www.rrouen.org/evenement/atelier-avec-nine-hauchard/
LOCATION:Jardin des Plantes\, dans le Pavillon\, 114B Avenue des Martyrs de la Résistance\, Rouen\, 76100\, France
CATEGORIES:Le Super Coin
ATTACH;FMTTYPE=image/jpeg:https://www.rrouen.org/wp-content/uploads/2021/09/Unknown.jpeg
ORGANIZER;CN="RRouen%20%28ateliers%29":MAILTO:ateliers@rrouen.org
END:VEVENT
BEGIN:VEVENT
DTSTART;TZID=Europe/Paris:20211016T163000
DTEND;TZID=Europe/Paris:20211016T180000
DTSTAMP:20260422T023558
CREATED:20210909T093609Z
LAST-MODIFIED:20211006T121614Z
UID:1569-1634401800-1634407200@www.rrouen.org
SUMMARY:Atelier avec Nine Hauchard n°2 - à partir de 6 ans
DESCRIPTION:Nine Hauchard glane\, récupère des éléments lors de balades\, de voyages. Elle fait des schémas\, des croquis\, chine des objets\, tissus\, matières. \nEn s’inspirant de formes végétales\, les groupes seront invités à créer un maxi drapeau (150 cm x 230 cm). Les participant.e.s découperont des formes directement dans du thermo-collant spécialement conçu pour le flocage textile\, disposées sur le drapeau cousu au préalable ; la toile sera ensuite enfilée sur un manche en bois et le maxi drapeau sera prêt ! \n16h Goûter \n16h30 Atelier avec Nine Hauchard\, à partir de 6 ans \nProjections en continu – Bibliothèque éphémère \nInvitée par le FRAC Normandie – Rouen\, membre de RRouen. \nATELIER COMPLET. \n  \nRetour à la liste des ateliers
URL:https://www.rrouen.org/evenement/atelier-avec-nine-hauchard-2/
LOCATION:Jardin des Plantes\, dans le Pavillon\, 114B Avenue des Martyrs de la Résistance\, Rouen\, 76100\, France
CATEGORIES:Le Super Coin
ATTACH;FMTTYPE=image/jpeg:https://www.rrouen.org/wp-content/uploads/2021/09/Unknown.jpeg
ORGANIZER;CN="RRouen%20%28ateliers%29":MAILTO:ateliers@rrouen.org
END:VEVENT
BEGIN:VEVENT
DTSTART;TZID=Europe/Paris:20211017T143000
DTEND;TZID=Europe/Paris:20211017T163000
DTSTAMP:20260422T023558
CREATED:20210909T094420Z
LAST-MODIFIED:20210930T131000Z
UID:1577-1634481000-1634488200@www.rrouen.org
SUMMARY:Atelier avec TIGRE
DESCRIPTION:TIGRE est un atelier de pratique artistique où les enfants viennent découper\, modeler\, peindre\, coudre et regarder… \nPour Super Coin\, TIGRE (Sophie Grassart) propose aux enfants de dessiner\, modeler\, fabriquer des fleurs et des sculptures fleuries\, en s’inspirant des chars du carnaval de Nice. \nIl y a des fleurs petites et brillantes\, des fleurs qui piquent\, des fleurs toutes plates\, pointues\, dentelées\, rondes ou carrées et il y a des fleurs géantes qui marchent. \n14h30 Atelier avec TIGRE – 4/10 ans \n16h30 Goûter \nProjections en continu – Bibliothèque éphémère \nTIGRE est membre de RRouen. \nATELIER COMPLET. \n  \nRetour à la liste des ateliers
URL:https://www.rrouen.org/evenement/atelier-avec-tigre/
LOCATION:Jardin des Plantes\, dans le Pavillon\, 114B Avenue des Martyrs de la Résistance\, Rouen\, 76100\, France
CATEGORIES:Le Super Coin
ATTACH;FMTTYPE=image/jpeg:https://www.rrouen.org/wp-content/uploads/2021/09/Visuel-Mille-Fleurs-TIGRE-scaled.jpeg
ORGANIZER;CN="RRouen%20%28ateliers%29":MAILTO:ateliers@rrouen.org
END:VEVENT
BEGIN:VEVENT
DTSTART;TZID=Europe/Paris:20211023T143000
DTEND;TZID=Europe/Paris:20211023T160000
DTSTAMP:20260422T023558
CREATED:20210913T160809Z
LAST-MODIFIED:20211001T080151Z
UID:1579-1634999400-1635004800@www.rrouen.org
SUMMARY:Atelier avec Hélène Rajcak et Damien Laverdunt - 6/12 ans
DESCRIPTION:Hélène Rajcak et Damien Laverdunt forment le duo « Les Tigres Gauchers ». Ils écrivent et illustrent ensemble depuis plusieurs années des livres documentaires et des albums jeunesse. Ils conçoivent en parallèle divers expositions et ateliers qui accompagnent leurs ouvrages.\nL’atelier « la marche des insectes » s’inspire très librement de l’album Le carnaval des insectes.\nAfin de se faire les porte-voix des abeilles\, lucioles\, papillons\, scarabées\, phasmes et coccinelles\, les participants imagineront des slogans et réaliseront des pancartes à brandir lors de la parade.\nUn atelier de sensibilisation écologique joyeux et militant. \n14h30 Atelier avec Hélène Rajcak et Damien Laverdunt – 6/12 ans \n16h Goûter \nProjections en continu – Bibliothèque éphémère \nUne invitation collective de RRouen. \nATELIER COMPLET. \n  \nRetour à la liste des ateliers
URL:https://www.rrouen.org/evenement/atelier-avec-helene-rajcak-et-damien-laverdunt-14h30/
LOCATION:Jardin des Plantes\, dans le Pavillon\, 114B Avenue des Martyrs de la Résistance\, Rouen\, 76100\, France
CATEGORIES:Le Super Coin
ATTACH;FMTTYPE=image/png:https://www.rrouen.org/wp-content/uploads/2021/09/Capture-decran-2021-08-16-a-17.49.57.png
ORGANIZER;CN="RRouen%20%28ateliers%29":MAILTO:ateliers@rrouen.org
END:VEVENT
BEGIN:VEVENT
DTSTART;TZID=Europe/Paris:20211023T163000
DTEND;TZID=Europe/Paris:20211023T180000
DTSTAMP:20260422T023558
CREATED:20210913T160657Z
LAST-MODIFIED:20211006T121539Z
UID:1581-1635006600-1635012000@www.rrouen.org
SUMMARY:Atelier avec Hélène Rajcak et Damien Laverdunt n°2 - 6/12 ans
DESCRIPTION:Hélène Rajcak et Damien Laverdunt forment le duo « Les Tigres Gauchers ». Ils écrivent et illustrent ensemble depuis plusieurs années des livres documentaires et des albums jeunesse. Ils conçoivent en parallèle divers expositions et ateliers qui accompagnent leurs ouvrages.\nL’atelier « la marche des insectes » s’inspire très librement de l’album Le carnaval des insectes.\nAfin de se faire les porte-voix des abeilles\, lucioles\, papillons\, scarabées\, phasmes et coccinelles\, les participants imagineront des slogans et réaliseront des pancartes à brandir lors de la parade.\nUn atelier de sensibilisation écologique joyeux et militant. \n16h Goûter \n16h30 Atelier avec Hélène Rajcak et Damien Laverdunt – 6/12 ans \nProjections en continu – Bibliothèque éphémère \nUne invitation collective de RRouen. \nATELIER COMPLET. \n  \nRetour à la liste des ateliers
URL:https://www.rrouen.org/evenement/atelier-avec-helene-rajcak-et-damien-laverdunt-2/
LOCATION:Jardin des Plantes\, dans le Pavillon\, 114B Avenue des Martyrs de la Résistance\, Rouen\, 76100\, France
CATEGORIES:Le Super Coin
ATTACH;FMTTYPE=image/png:https://www.rrouen.org/wp-content/uploads/2021/09/Capture-decran-2021-08-16-a-17.49.57.png
ORGANIZER;CN="RRouen%20%28ateliers%29":MAILTO:ateliers@rrouen.org
END:VEVENT
BEGIN:VEVENT
DTSTART;TZID=Europe/Paris:20211024T143000
DTEND;TZID=Europe/Paris:20211024T163000
DTSTAMP:20260422T023558
CREATED:20210909T100135Z
LAST-MODIFIED:20211001T080042Z
UID:1583-1635085800-1635093000@www.rrouen.org
SUMMARY:Atelier avec Bertran Berrenger - 6/12 ans
DESCRIPTION:Bertran Berrenger\, binôme composé de Fabrice Bertran et Jean-Paul Berrenger\, développent depuis une vingtaine d’années un travail protéiforme (ex : tracer des cercles au sol avec un chariot élévateur\, se cacher derrière une grosse pierre\, faire une boule géante en papier aluminium\, peindre entièrement en fluo une botte de paille…). \nLe duo propose de mener un atelier camouflage et de faire disparaître une série de sculptures voire un char\, dans le jardin par le biais de la peinture. \n14h30 Atelier avec Bertran Berrenger – 6/12 ans  \n16h30 Goûter \nProjections en continu – Bibliothèque éphémère \nInvités par Le SHED\, membre de RRouen. \nATELIER COMPLET. \n  \nRetour à la liste des ateliers
URL:https://www.rrouen.org/evenement/atelier-avec-bertran-berrenger/
LOCATION:Jardin des Plantes\, dans le Pavillon\, 114B Avenue des Martyrs de la Résistance\, Rouen\, 76100\, France
CATEGORIES:Le Super Coin
ATTACH;FMTTYPE=image/jpeg:https://www.rrouen.org/wp-content/uploads/2021/09/camouflage.jpg
ORGANIZER;CN="RRouen%20%28ateliers%29":MAILTO:ateliers@rrouen.org
END:VEVENT
BEGIN:VEVENT
DTSTART;TZID=Europe/Paris:20230624T150000
DTEND;TZID=Europe/Paris:20230625T130000
DTSTAMP:20260422T023558
CREATED:20230527T124450Z
LAST-MODIFIED:20230622T125944Z
UID:5038-1687618800-1687698000@www.rrouen.org
SUMMARY:Rock et animaux
DESCRIPTION:Durée d’un atelier : 3h. \nAccompagnés par Maïa et Guillaume\, formez un groupe\, composez des chansons\, enregistrez un album et dessinez une pochette de disques. \n  \nArtistes invités : Le Club des Chats
URL:https://www.rrouen.org/evenement/rocketanimaux/
LOCATION:Jardin des Plantes\, dans le Pavillon\, 114B Avenue des Martyrs de la Résistance\, Rouen\, 76100\, France
CATEGORIES:Le Super Coin
ATTACH;FMTTYPE=application/pdf:https://www.rrouen.org/wp-content/uploads/2023/05/RR_SC_ClubdesChats.pdf
ORGANIZER;CN="RRouen%20%28ateliers%29":MAILTO:ateliers@rrouen.org
END:VEVENT
END:VCALENDAR